BEGIN:VCALENDAR
VERSION:2.0
PRODID:-//eventon.com NONSGML v1.0//EN
CALSCALE:GREGORIAN
METHOD:PUBLISH
BEGIN:VEVENT
UID:69eccdc2d1383
DTSTAMP:20260425T142050Z
DTSTART:20260402
DTEND:20260403
LOCATION:
SUMMARY:Výtvarné spektrum
DESCRIPTION:\nhttps://visitspis.sk/events/vytvarne-spektrum/
URL:https://visitspis.sk/events/vytvarne-spektrum/
END:VEVENT
END:VCALENDAR