BEGIN:VCALENDAR
VERSION:2.0
PRODID:-//eventon.com NONSGML v1.0//EN
CALSCALE:GREGORIAN
METHOD:PUBLISH
BEGIN:VEVENT
UID:69eccde73d36f
DTSTAMP:20260425T142127Z
DTSTART:20260402
DTEND:20260403
LOCATION:
SUMMARY:Šachový turnaj grófa Zamoyského
DESCRIPTION:\nhttps://visitspis.sk/events/sachovy-turnaj-grofa-zamoyskeho/
URL:https://visitspis.sk/events/sachovy-turnaj-grofa-zamoyskeho/
END:VEVENT
END:VCALENDAR