BEGIN:VCALENDAR
VERSION:2.0
PRODID:-//eventon.com NONSGML v1.0//EN
CALSCALE:GREGORIAN
METHOD:PUBLISH
BEGIN:VEVENT
UID:69eccdc2d215a
DTSTAMP:20260425T142050Z
DTSTART:20260426
DTEND:20260427
LOCATION:
SUMMARY:Otvorenie hradných brán
DESCRIPTION:\nhttps://visitspis.sk/events/otvorenie-hradnych-bran/
URL:https://visitspis.sk/events/otvorenie-hradnych-bran/
END:VEVENT
END:VCALENDAR