BEGIN:VCALENDAR
VERSION:2.0
PRODID:-//eventon.com NONSGML v1.0//EN
CALSCALE:GREGORIAN
METHOD:PUBLISH
BEGIN:VEVENT
UID:69eccde674be4
DTSTAMP:20260425T142126Z
DTSTART:20260404
DTEND:20260405
LOCATION:
SUMMARY:Veľkonočná cyklopúť a púť na horu Zvir
DESCRIPTION:\nhttps://visitspis.sk/events/velkonocna-cykloput-a-put-na-horu
 -zvir/
URL:https://visitspis.sk/events/velkonocna-cykloput-a-put-na-horu-zvir/
END:VEVENT
END:VCALENDAR