BEGIN:VCALENDAR
VERSION:2.0
PRODID:-//eventon.com NONSGML v1.0//EN
CALSCALE:GREGORIAN
METHOD:PUBLISH
BEGIN:VEVENT
UID:69eccde670dd2
DTSTAMP:20260425T142126Z
DTSTART:20260424
DTEND:20260425
LOCATION:
SUMMARY:ROK NA HORNOM SPIŠI: NA DZURA...
DESCRIPTION:\nhttps://visitspis.sk/events/rok-na-hornom-spisi-na-dzura-2/
URL:https://visitspis.sk/events/rok-na-hornom-spisi-na-dzura-2/
END:VEVENT
END:VCALENDAR