BEGIN:VCALENDAR
VERSION:2.0
PRODID:-//eventon.com NONSGML v1.0//EN
CALSCALE:GREGORIAN
METHOD:PUBLISH
BEGIN:VEVENT
UID:69eccde7bad03
DTSTAMP:20260425T142127Z
DTSTART:20260419T175700Z
DTEND:20260419T183000Z
LOCATION:
SUMMARY:Peter Nagy & Indigo
DESCRIPTION:\nhttps://visitspis.sk/events/peter-nagy-indigo/
URL:https://visitspis.sk/events/peter-nagy-indigo/
END:VEVENT
END:VCALENDAR