BEGIN:VCALENDAR
VERSION:2.0
PRODID:-//eventon.com NONSGML v1.0//EN
CALSCALE:GREGORIAN
METHOD:PUBLISH
BEGIN:VEVENT
UID:69eccdcd56a29
DTSTAMP:20260425T142101Z
DTSTART:20260418T160000Z
DTEND:20260418T180000Z
LOCATION:
SUMMARY:Ľudová hudba Beťarky a ich hostia
DESCRIPTION:\nhttps://visitspis.sk/events/ludova-hudba-betarky-a-ich-hostia
 /
URL:https://visitspis.sk/events/ludova-hudba-betarky-a-ich-hostia/
END:VEVENT
END:VCALENDAR