BEGIN:VCALENDAR
VERSION:2.0
PRODID:-//eventon.com NONSGML v1.0//EN
CALSCALE:GREGORIAN
METHOD:PUBLISH
BEGIN:VEVENT
UID:69ecce0e2889a
DTSTAMP:20260425T142206Z
DTSTART:20260425T170000Z
DTEND:20260425T215900Z
LOCATION:
SUMMARY:Silné reči
DESCRIPTION:\nhttps://visitspis.sk/events/silne-reci-2/
URL:https://visitspis.sk/events/silne-reci-2/
END:VEVENT
END:VCALENDAR