BEGIN:VCALENDAR
VERSION:2.0
PRODID:-//eventon.com NONSGML v1.0//EN
CALSCALE:GREGORIAN
METHOD:PUBLISH
BEGIN:VEVENT
UID:69eccdcb88225
DTSTAMP:20260425T142059Z
DTSTART:20260411T140000Z
DTEND:20260411T150000Z
LOCATION:
SUMMARY:Osmijanko
DESCRIPTION:\nhttps://visitspis.sk/events/osmijanko/
URL:https://visitspis.sk/events/osmijanko/
END:VEVENT
END:VCALENDAR