BEGIN:VCALENDAR
VERSION:2.0
PRODID:-//eventon.com NONSGML v1.0//EN
CALSCALE:GREGORIAN
METHOD:PUBLISH
BEGIN:VEVENT
UID:69ece3e89edfc
DTSTAMP:20260425T155520Z
DTSTART:20260422T070000Z
DTEND:20260422T100000Z
LOCATION:
SUMMARY:Deň zeme
DESCRIPTION:\nhttps://visitspis.sk/events/den-zeme-2/
URL:https://visitspis.sk/events/den-zeme-2/
END:VEVENT
END:VCALENDAR