BEGIN:VCALENDAR
VERSION:2.0
PRODID:-//eventon.com NONSGML v1.0//EN
CALSCALE:GREGORIAN
METHOD:PUBLISH
BEGIN:VEVENT
UID:69eccde84555c
DTSTAMP:20260425T142128Z
DTSTART:20260410
DTEND:20260411
LOCATION:
SUMMARY:Vesmír očami detí
DESCRIPTION:\nhttps://visitspis.sk/events/vesmir-ocami-deti/
URL:https://visitspis.sk/events/vesmir-ocami-deti/
END:VEVENT
END:VCALENDAR