BEGIN:VCALENDAR
VERSION:2.0
PRODID:-//eventon.com NONSGML v1.0//EN
CALSCALE:GREGORIAN
METHOD:PUBLISH
BEGIN:VEVENT
UID:69ece3fd81826
DTSTAMP:20260425T155541Z
DTSTART:20260331T060000Z
DTEND:20260401T100000Z
LOCATION:
SUMMARY:Medzinárodný deň vtáctva
DESCRIPTION:\nhttps://visitspis.sk/events/medzinarodny-den-vtactva/
URL:https://visitspis.sk/events/medzinarodny-den-vtactva/
END:VEVENT
END:VCALENDAR