BEGIN:VCALENDAR
VERSION:2.0
PRODID:-//eventon.com NONSGML v1.0//EN
CALSCALE:GREGORIAN
METHOD:PUBLISH
BEGIN:VEVENT
UID:69ecce0d3febf
DTSTAMP:20260425T142205Z
DTSTART:20260403T080000Z
DTEND:20260406T160000Z
LOCATION:
SUMMARY:Veľká noc na hrade Ľubovňa
DESCRIPTION:\nhttps://visitspis.sk/events/velka-noc-na-hrade-lubovna/
URL:https://visitspis.sk/events/velka-noc-na-hrade-lubovna/
END:VEVENT
END:VCALENDAR