BEGIN:VCALENDAR
VERSION:2.0
PRODID:-//eventon.com NONSGML v1.0//EN
CALSCALE:GREGORIAN
METHOD:PUBLISH
BEGIN:VEVENT
UID:69ece3a3a1c82
DTSTAMP:20260425T155411Z
DTSTART:20260405
DTEND:20260406
LOCATION:
SUMMARY:Podujatia v Ateliéri RAMAGU
DESCRIPTION:\nhttps://visitspis.sk/events/podujatia-v-atelieri-ramagu/
URL:https://visitspis.sk/events/podujatia-v-atelieri-ramagu/
END:VEVENT
END:VCALENDAR