BEGIN:VCALENDAR
VERSION:2.0
PRODID:-//eventon.com NONSGML v1.0//EN
CALSCALE:GREGORIAN
METHOD:PUBLISH
BEGIN:VEVENT
UID:69ece35d8b5a3
DTSTAMP:20260425T155301Z
DTSTART:20260408
DTEND:20260409
LOCATION:
SUMMARY:Apríl v ARTELIÉRI
DESCRIPTION:\nhttps://visitspis.sk/events/april-v-artelieri/
URL:https://visitspis.sk/events/april-v-artelieri/
END:VEVENT
END:VCALENDAR