BEGIN:VCALENDAR
VERSION:2.0
PRODID:-//eventon.com NONSGML v1.0//EN
CALSCALE:GREGORIAN
METHOD:PUBLISH
BEGIN:VEVENT
UID:69eccdc482ad3
DTSTAMP:20260425T142052Z
DTSTART:20260430T110000Z
DTEND:20260430T140000Z
LOCATION:
SUMMARY:Ľubovniansky máj
DESCRIPTION:\nhttps://visitspis.sk/events/lubovniansky-maj-2/
URL:https://visitspis.sk/events/lubovniansky-maj-2/
END:VEVENT
END:VCALENDAR