BEGIN:VCALENDAR
VERSION:2.0
PRODID:-//eventon.com NONSGML v1.0//EN
CALSCALE:GREGORIAN
METHOD:PUBLISH
BEGIN:VEVENT
UID:69eccdc37e57c
DTSTAMP:20260425T142051Z
DTSTART:20260430T110000Z
DTEND:20260529T070000Z
LOCATION:
SUMMARY:Vernisáž výstavy M. R. Štefánika - Stopy života
DESCRIPTION:\nhttps://visitspis.sk/events/vernisaz-vystavy-m-r-stefanika-st
 opy-zivota/
URL:https://visitspis.sk/events/vernisaz-vystavy-m-r-stefanika-stopy-zivota/
END:VEVENT
END:VCALENDAR