BEGIN:VCALENDAR
VERSION:2.0
PRODID:-//eventon.com NONSGML v1.0//EN
CALSCALE:GREGORIAN
METHOD:PUBLISH
BEGIN:VEVENT
UID:69eccd8fa13ad
DTSTAMP:20260425T141959Z
DTSTART:20260425T070000Z
DTEND:20260425T150000Z
LOCATION:
SUMMARY:Otvorenie letnej turistickej sezóny - Pieniny
DESCRIPTION:\nhttps://visitspis.sk/events/otvorenie-letnej-turistickej-sezo
 ny-pieniny/
URL:https://visitspis.sk/events/otvorenie-letnej-turistickej-sezony-pieniny/
END:VEVENT
END:VCALENDAR