BEGIN:VCALENDAR
VERSION:2.0
PRODID:-//eventon.com NONSGML v1.0//EN
CALSCALE:GREGORIAN
METHOD:PUBLISH
BEGIN:VEVENT
UID:69eccdc403c06
DTSTAMP:20260425T142052Z
DTSTART:20260426T120000Z
DTEND:20260426T160000Z
LOCATION:
SUMMARY:Nedeľa pre radosť detí
DESCRIPTION:\nhttps://visitspis.sk/events/nedela-pre-radost-deti/
URL:https://visitspis.sk/events/nedela-pre-radost-deti/
END:VEVENT
END:VCALENDAR